BEGIN:VCALENDAR
VERSION:2.0
PRODID:-//Tatiana Moroz - ECPv6.15.18//NONSGML v1.0//EN
CALSCALE:GREGORIAN
METHOD:PUBLISH
X-WR-CALNAME:Tatiana Moroz
X-ORIGINAL-URL:https://www.tatianamoroz.com
X-WR-CALDESC:Events for Tatiana Moroz
REFRESH-INTERVAL;VALUE=DURATION:PT1H
X-Robots-Tag:noindex
X-PUBLISHED-TTL:PT1H
BEGIN:VTIMEZONE
TZID:America/New_York
BEGIN:DAYLIGHT
TZOFFSETFROM:-0500
TZOFFSETTO:-0400
TZNAME:EDT
DTSTART:20170312T070000
END:DAYLIGHT
BEGIN:STANDARD
TZOFFSETFROM:-0400
TZOFFSETTO:-0500
TZNAME:EST
DTSTART:20171105T060000
END:STANDARD
BEGIN:DAYLIGHT
TZOFFSETFROM:-0500
TZOFFSETTO:-0400
TZNAME:EDT
DTSTART:20180311T070000
END:DAYLIGHT
BEGIN:STANDARD
TZOFFSETFROM:-0400
TZOFFSETTO:-0500
TZNAME:EST
DTSTART:20181104T060000
END:STANDARD
BEGIN:DAYLIGHT
TZOFFSETFROM:-0500
TZOFFSETTO:-0400
TZNAME:EDT
DTSTART:20190310T070000
END:DAYLIGHT
BEGIN:STANDARD
TZOFFSETFROM:-0400
TZOFFSETTO:-0500
TZNAME:EST
DTSTART:20191103T060000
END:STANDARD
BEGIN:DAYLIGHT
TZOFFSETFROM:-0500
TZOFFSETTO:-0400
TZNAME:EDT
DTSTART:20200308T070000
END:DAYLIGHT
BEGIN:STANDARD
TZOFFSETFROM:-0400
TZOFFSETTO:-0500
TZNAME:EST
DTSTART:20201101T060000
END:STANDARD
BEGIN:DAYLIGHT
TZOFFSETFROM:-0500
TZOFFSETTO:-0400
TZNAME:EDT
DTSTART:20210314T070000
END:DAYLIGHT
BEGIN:STANDARD
TZOFFSETFROM:-0400
TZOFFSETTO:-0500
TZNAME:EST
DTSTART:20211107T060000
END:STANDARD
BEGIN:DAYLIGHT
TZOFFSETFROM:-0500
TZOFFSETTO:-0400
TZNAME:EDT
DTSTART:20220313T070000
END:DAYLIGHT
BEGIN:STANDARD
TZOFFSETFROM:-0400
TZOFFSETTO:-0500
TZNAME:EST
DTSTART:20221106T060000
END:STANDARD
BEGIN:DAYLIGHT
TZOFFSETFROM:-0500
TZOFFSETTO:-0400
TZNAME:EDT
DTSTART:20230312T070000
END:DAYLIGHT
BEGIN:STANDARD
TZOFFSETFROM:-0400
TZOFFSETTO:-0500
TZNAME:EST
DTSTART:20231105T060000
END:STANDARD
BEGIN:DAYLIGHT
TZOFFSETFROM:-0500
TZOFFSETTO:-0400
TZNAME:EDT
DTSTART:20240310T070000
END:DAYLIGHT
BEGIN:STANDARD
TZOFFSETFROM:-0400
TZOFFSETTO:-0500
TZNAME:EST
DTSTART:20241103T060000
END:STANDARD
BEGIN:DAYLIGHT
TZOFFSETFROM:-0500
TZOFFSETTO:-0400
TZNAME:EDT
DTSTART:20250309T070000
END:DAYLIGHT
BEGIN:STANDARD
TZOFFSETFROM:-0400
TZOFFSETTO:-0500
TZNAME:EST
DTSTART:20251102T060000
END:STANDARD
BEGIN:DAYLIGHT
TZOFFSETFROM:-0500
TZOFFSETTO:-0400
TZNAME:EDT
DTSTART:20260308T070000
END:DAYLIGHT
BEGIN:STANDARD
TZOFFSETFROM:-0400
TZOFFSETTO:-0500
TZNAME:EST
DTSTART:20261101T060000
END:STANDARD
END:VTIMEZONE
BEGIN:VEVENT
DTSTART;TZID=America/New_York:20250828T080000
DTEND;TZID=America/New_York:20250828T170000
DTSTAMP:20260423T043030
CREATED:20250822T123731Z
LAST-MODIFIED:20250822T124148Z
UID:15073-1756368000-1756400400@www.tatianamoroz.com
SUMMARY:A Miami Evening with Musical Variety
DESCRIPTION:Join me and a number of local musicians for a later set from 9-12 Thursday night Aug 28 in North Miami.  Will be playing some new songs\, and prepping for my show in Pennsylvania August 31.  Hope to see you come out!
URL:https://www.tatianamoroz.com/event/a-miami-evening-with-musical-variety/
LOCATION:Makana\, 12009 Northwest 7th Ave\, North Miami\, FL\, 33168\, United States
CATEGORIES:All,Featured
ATTACH;FMTTYPE=image/jpeg:https://www.tatianamoroz.com/wp-content/uploads/2025/08/Tatiana-Flyer-aug-28.jpg
END:VEVENT
BEGIN:VEVENT
DTSTART;TZID=America/New_York:20230416T100000
DTEND;TZID=America/New_York:20230416T150000
DTSTAMP:20260423T043030
CREATED:20230411T162656Z
LAST-MODIFIED:20230426T163708Z
UID:14549-1681639200-1681657200@www.tatianamoroz.com
SUMMARY:April 16th Bitcoin Brunch Miami 100th Meetup Performance at Naomi's Garden
DESCRIPTION:Listen to me perform songs from my new album “Love Songs for Idiots” at the 100th anniversary event alongside Bitcoin friends both new and old… \nA local meetup for Bitcoiners\, by Bitcoiners. Come enjoy delicious food and even better conversations. There’s always something to learn at Bitcoin Brunch! \nEvery Sunday from 10am-3pm; sometimes later if the vibes are right \nNaomi’s Garden Website & Menu \n“My mother Naomi\, she cooked for 4 and fed 40. Now her name feeds thousands and her generosity continues” – Yaron Yemini (Featured in the Miami Herald & the New Tropic )
URL:https://www.tatianamoroz.com/event/bitcoin-brunch-miami-100th-meetup-performance-at-naomis-garden/
LOCATION:Naomi’s Garden 650 NW 71st Street\, Miami\, 650 NW 71st Street\, Miami\, FL\, 33150\, United States
CATEGORIES:All
ATTACH;FMTTYPE=image/png:https://www.tatianamoroz.com/wp-content/uploads/2023/04/Screenshot-2023-04-11-at-12.23.37-PM.png
END:VEVENT
BEGIN:VEVENT
DTSTART;TZID=America/New_York:20180419T090000
DTEND;TZID=America/New_York:20180419T210000
DTSTAMP:20260423T043030
CREATED:20180224T183035Z
LAST-MODIFIED:20180224T183035Z
UID:12610-1524128400-1524171600@www.tatianamoroz.com
SUMMARY:Blockchain Economic Event in Toronto\, Canada
DESCRIPTION:Fintech Canada presents Blockchain Economic Event on April 19th in Toronto! I’ll be doing a live performance and hope to see you there! There’s going to be a ton of great speakers including Alena Vranova\, Paige Peterson\, Tone Vays\, Hartej Sawhney\, Simon Dixon\, Paul Snow\, Stacey Herbert\, Connie Gallippi from BitGive  and Max Keiser.  It’s a one day event full of networking\, workshops\, panel discussions and fireside chats all having to do with blockchain in one of the hottest crypto cities in the world!
URL:https://www.tatianamoroz.com/event/blockchain-economic-event-in-canada/
LOCATION:Sheraton Centre Toronto Hotel\, 123 Queen Street W.\, Toronto\, Ontario\, M5H 2M9\, Canada
CATEGORIES:All
ATTACH;FMTTYPE=:
END:VEVENT
BEGIN:VEVENT
DTSTART;VALUE=DATE:20180306
DTEND;VALUE=DATE:20180309
DTSTAMP:20260423T043030
CREATED:20180222T141432Z
LAST-MODIFIED:20180222T141432Z
UID:12609-1520294400-1520553599@www.tatianamoroz.com
SUMMARY:DC Blockchain Summit 2018
DESCRIPTION:I’ll be traveling to Washington D.C. to perform at the DC Blockchain Summit 2018! On March 7th\, I’ll be performing at the private dinner at 7 PM EST and on March 8th\, I’ll be performing on the main stage at 1:30 PM EST. The event is hosted by the Chamber of Digital Commerce and Georgetown University’s Center for Financial Markets. The first day consists of a code-a-thon and the next two days are packed with speakers\, networking and much more. I hope you will attend and see both of my performances!
URL:https://www.tatianamoroz.com/event/dc-blockchain-summit-2018/
LOCATION:Georgetown University McDonough School of Business\, Rafik B. Hariri Building\, 3700 O St. NW\, Washington\, DC\, 20057\, United States
CATEGORIES:All
ATTACH;FMTTYPE=:
END:VEVENT
BEGIN:VEVENT
DTSTART;TZID=America/New_York:20180115T120000
DTEND;TZID=America/New_York:20180117T000000
DTSTAMP:20260423T043030
CREATED:20180105T194316Z
LAST-MODIFIED:20180105T194316Z
UID:12608-1516017600-1516147200@www.tatianamoroz.com
SUMMARY:World Crypto Economic Forum
DESCRIPTION:WCEF is a the first in a series of events in the San Francisco Bay area that supports the blockchain community and creates a global network of entrepreneurs and developers in today’s fast-evolving blockchain economy. The event is two days with 1\,000+ attendees and I will be one of 60+ speakers!
URL:https://www.tatianamoroz.com/event/world-crypto-economic-forum/
LOCATION:South San Francisco Conference Center\, 255 S Airport Blvd\, South San Francisco\, California\, 94080\, United States
CATEGORIES:All
END:VEVENT
BEGIN:VEVENT
DTSTART;TZID=America/New_York:20180109T190000
DTEND;TZID=America/New_York:20180109T200000
DTSTAMP:20260423T043030
CREATED:20171227T211508Z
LAST-MODIFIED:20171227T211508Z
UID:12607-1515524400-1515528000@www.tatianamoroz.com
SUMMARY:Let's Talk Cryptocurrency with Funny as Tech
DESCRIPTION:Funny as Tech\, a live panel show and podcast\, will be hosting Let’s Talk Cryptocurrency at the People’s Improv Theater in NYC on January 9th. David Ryan Polgar (Tech Ethicist) and Joe Leonardo (comedian) have gathered a few crypto experts including Margaux Avedisian\, Chris Burniske\, and myself for this panel. We’re excited about this freewheeling conversation because of the diverse background of the panelists and the hot topic of cryptocurrency!
URL:https://www.tatianamoroz.com/event/lets-talk-cryptocurrency-with-funny-as-tech/
LOCATION:Peoples Improv Theater\, 123 E. 24th Street\, New York\, NY\, 10010\, United States
CATEGORIES:All
END:VEVENT
END:VCALENDAR